BEGIN:VCALENDAR
VERSION:2.0
PRODID:-//Griffith Observatory - ECPv6.15.18//NONSGML v1.0//EN
CALSCALE:GREGORIAN
METHOD:PUBLISH
X-WR-CALNAME:Griffith Observatory
X-ORIGINAL-URL:https://griffithobservatory.lacity.gov
X-WR-CALDESC:Events for Griffith Observatory
REFRESH-INTERVAL;VALUE=DURATION:PT1H
X-Robots-Tag:noindex
X-PUBLISHED-TTL:PT1H
BEGIN:VTIMEZONE
TZID:America/Los_Angeles
BEGIN:DAYLIGHT
TZOFFSETFROM:-0800
TZOFFSETTO:-0700
TZNAME:PDT
DTSTART:20100314T100000
END:DAYLIGHT
BEGIN:STANDARD
TZOFFSETFROM:-0700
TZOFFSETTO:-0800
TZNAME:PST
DTSTART:20101107T090000
END:STANDARD
BEGIN:DAYLIGHT
TZOFFSETFROM:-0800
TZOFFSETTO:-0700
TZNAME:PDT
DTSTART:20110313T100000
END:DAYLIGHT
BEGIN:STANDARD
TZOFFSETFROM:-0700
TZOFFSETTO:-0800
TZNAME:PST
DTSTART:20111106T090000
END:STANDARD
BEGIN:DAYLIGHT
TZOFFSETFROM:-0800
TZOFFSETTO:-0700
TZNAME:PDT
DTSTART:20120311T100000
END:DAYLIGHT
BEGIN:STANDARD
TZOFFSETFROM:-0700
TZOFFSETTO:-0800
TZNAME:PST
DTSTART:20121104T090000
END:STANDARD
BEGIN:DAYLIGHT
TZOFFSETFROM:-0800
TZOFFSETTO:-0700
TZNAME:PDT
DTSTART:20130310T100000
END:DAYLIGHT
BEGIN:STANDARD
TZOFFSETFROM:-0700
TZOFFSETTO:-0800
TZNAME:PST
DTSTART:20131103T090000
END:STANDARD
BEGIN:DAYLIGHT
TZOFFSETFROM:-0800
TZOFFSETTO:-0700
TZNAME:PDT
DTSTART:20140309T100000
END:DAYLIGHT
BEGIN:STANDARD
TZOFFSETFROM:-0700
TZOFFSETTO:-0800
TZNAME:PST
DTSTART:20141102T090000
END:STANDARD
BEGIN:DAYLIGHT
TZOFFSETFROM:-0800
TZOFFSETTO:-0700
TZNAME:PDT
DTSTART:20150308T100000
END:DAYLIGHT
BEGIN:STANDARD
TZOFFSETFROM:-0700
TZOFFSETTO:-0800
TZNAME:PST
DTSTART:20151101T090000
END:STANDARD
BEGIN:DAYLIGHT
TZOFFSETFROM:-0800
TZOFFSETTO:-0700
TZNAME:PDT
DTSTART:20160313T100000
END:DAYLIGHT
BEGIN:STANDARD
TZOFFSETFROM:-0700
TZOFFSETTO:-0800
TZNAME:PST
DTSTART:20161106T090000
END:STANDARD
BEGIN:DAYLIGHT
TZOFFSETFROM:-0800
TZOFFSETTO:-0700
TZNAME:PDT
DTSTART:20170312T100000
END:DAYLIGHT
BEGIN:STANDARD
TZOFFSETFROM:-0700
TZOFFSETTO:-0800
TZNAME:PST
DTSTART:20171105T090000
END:STANDARD
BEGIN:DAYLIGHT
TZOFFSETFROM:-0800
TZOFFSETTO:-0700
TZNAME:PDT
DTSTART:20180311T100000
END:DAYLIGHT
BEGIN:STANDARD
TZOFFSETFROM:-0700
TZOFFSETTO:-0800
TZNAME:PST
DTSTART:20181104T090000
END:STANDARD
BEGIN:DAYLIGHT
TZOFFSETFROM:-0800
TZOFFSETTO:-0700
TZNAME:PDT
DTSTART:20190310T100000
END:DAYLIGHT
BEGIN:STANDARD
TZOFFSETFROM:-0700
TZOFFSETTO:-0800
TZNAME:PST
DTSTART:20191103T090000
END:STANDARD
END:VTIMEZONE
BEGIN:VEVENT
DTSTART;TZID=America/Los_Angeles:20180907T193000
DTEND;TZID=America/Los_Angeles:20180907T210000
DTSTAMP:20260421T200141
CREATED:20220621T181452Z
LAST-MODIFIED:20220621T193504Z
UID:10000510-1536348600-1536354000@griffithobservatory.lacity.gov
SUMMARY:All Space Considered - September 2018
DESCRIPTION:
URL:https://griffithobservatory.lacity.gov/event/all-space-considered-september-2018/
LOCATION:Leonard Nimoy Event Horizon Theater
CATEGORIES:All Space Considered,NASA-JPL,Special Guest,Special Guest Lecture
ATTACH;FMTTYPE=image/jpeg:https://griffithobservatory.lacity.gov/wp-content/uploads/2022/06/All-Space-Considered-September-2018.jpg
END:VEVENT
BEGIN:VEVENT
DTSTART;TZID=America/Los_Angeles:20180803T193000
DTEND;TZID=America/Los_Angeles:20180803T210000
DTSTAMP:20260421T200141
CREATED:20220621T181744Z
LAST-MODIFIED:20220621T193329Z
UID:10000513-1533324600-1533330000@griffithobservatory.lacity.gov
SUMMARY:All Space Considered - August 2018
DESCRIPTION:
URL:https://griffithobservatory.lacity.gov/event/all-space-considered-august-2018/
LOCATION:Leonard Nimoy Event Horizon Theater
CATEGORIES:All Space Considered,NASA-JPL,Special Guest,Special Guest Lecture
ATTACH;FMTTYPE=image/jpeg:https://griffithobservatory.lacity.gov/wp-content/uploads/2022/06/All-Space-Considered-August-2018.jpg
END:VEVENT
BEGIN:VEVENT
DTSTART;TZID=America/Los_Angeles:20180516T193000
DTEND;TZID=America/Los_Angeles:20180516T210000
DTSTAMP:20260421T200141
CREATED:20220615T221509Z
LAST-MODIFIED:20220617T184354Z
UID:10000402-1526499000-1526504400@griffithobservatory.lacity.gov
SUMMARY:Lecture and Book Signing by Dr. Alan Stern and Dr. David Grinspoon
DESCRIPTION:
URL:https://griffithobservatory.lacity.gov/event/lecture-and-book-signing-by-dr-alan-stern-and-dr-david-grinspoon/
LOCATION:Leonard Nimoy Event Horizon Theater
CATEGORIES:Book Signing,NASA-JPL,New Horizons Mission,Special Guest,Special Guest Lecture
ATTACH;FMTTYPE=image/jpeg:https://griffithobservatory.lacity.gov/wp-content/uploads/2022/06/chasing_new_horizons_may_2018.jpg
END:VEVENT
BEGIN:VEVENT
DTSTART;TZID=America/Los_Angeles:20180504T193000
DTEND;TZID=America/Los_Angeles:20180504T210000
DTSTAMP:20260421T200141
CREATED:20220621T182147Z
LAST-MODIFIED:20220621T183624Z
UID:10000514-1525462200-1525467600@griffithobservatory.lacity.gov
SUMMARY:All Space Considered 10th Anniversary Celebration - May 2018
DESCRIPTION:
URL:https://griffithobservatory.lacity.gov/event/all-space-considered-10th-anniversary-celebration-may-2018/
LOCATION:Leonard Nimoy Event Horizon Theater
CATEGORIES:All Space Considered
ATTACH;FMTTYPE=image/jpeg:https://griffithobservatory.lacity.gov/wp-content/uploads/2022/06/All-Space-Considered-10th-Anniversary-Celebration-–-May-2018.jpg
END:VEVENT
BEGIN:VEVENT
DTSTART;TZID=America/Los_Angeles:20180202T193000
DTEND;TZID=America/Los_Angeles:20180202T210000
DTSTAMP:20260421T200141
CREATED:20220621T182602Z
LAST-MODIFIED:20220621T183505Z
UID:10000517-1517599800-1517605200@griffithobservatory.lacity.gov
SUMMARY:All Space Considered - February 2018
DESCRIPTION:
URL:https://griffithobservatory.lacity.gov/event/all-space-considered-february-2018/
LOCATION:Leonard Nimoy Event Horizon Theater
CATEGORIES:All Space Considered,Special Guest,Special Guest Lecture
ATTACH;FMTTYPE=image/jpeg:https://griffithobservatory.lacity.gov/wp-content/uploads/2022/06/All-Space-Considered-February-2018.jpg
END:VEVENT
BEGIN:VEVENT
DTSTART;TZID=America/Los_Angeles:20171201T193000
DTEND;TZID=America/Los_Angeles:20171201T210000
DTSTAMP:20260421T200141
CREATED:20220621T184427Z
LAST-MODIFIED:20220621T184427Z
UID:10000520-1512156600-1512162000@griffithobservatory.lacity.gov
SUMMARY:All Space Considered - December 2017
DESCRIPTION:
URL:https://griffithobservatory.lacity.gov/event/all-space-considered-december-2017/
LOCATION:Leonard Nimoy Event Horizon Theater
CATEGORIES:All Space Considered,Special Guest,Special Guest Lecture
ATTACH;FMTTYPE=image/jpeg:https://griffithobservatory.lacity.gov/wp-content/uploads/2022/06/All-Space-Considered-December-2017.jpg
END:VEVENT
BEGIN:VEVENT
DTSTART;TZID=America/Los_Angeles:20171103T193000
DTEND;TZID=America/Los_Angeles:20171103T210000
DTSTAMP:20260421T200141
CREATED:20220621T184809Z
LAST-MODIFIED:20220621T184809Z
UID:10000521-1509737400-1509742800@griffithobservatory.lacity.gov
SUMMARY:All Space Considered - November 2017
DESCRIPTION:
URL:https://griffithobservatory.lacity.gov/event/all-space-considered-november-2017/
LOCATION:Leonard Nimoy Event Horizon Theater
CATEGORIES:All Space Considered,NASA-JPL,Special Guest,Special Guest Lecture
ATTACH;FMTTYPE=image/jpeg:https://griffithobservatory.lacity.gov/wp-content/uploads/2022/06/All-Space-Considered-November-2017.jpg
END:VEVENT
BEGIN:VEVENT
DTSTART;TZID=America/Los_Angeles:20170901T193000
DTEND;TZID=America/Los_Angeles:20170901T210000
DTSTAMP:20260421T200141
CREATED:20220621T184040Z
LAST-MODIFIED:20220621T185950Z
UID:10000518-1504294200-1504299600@griffithobservatory.lacity.gov
SUMMARY:All Space Considered with Tim Russ - September 2017
DESCRIPTION:
URL:https://griffithobservatory.lacity.gov/event/all-space-considered-with-tim-russ-september-2018/
LOCATION:Leonard Nimoy Event Horizon Theater
CATEGORIES:All Space Considered,Special Guest,Special Guest Lecture
ATTACH;FMTTYPE=image/jpeg:https://griffithobservatory.lacity.gov/wp-content/uploads/2021/03/All-Space-Considered-with-Tim-Russ-September-2017.jpg
END:VEVENT
BEGIN:VEVENT
DTSTART;TZID=America/Los_Angeles:20170602T193000
DTEND;TZID=America/Los_Angeles:20170602T210000
DTSTAMP:20260421T200141
CREATED:20220621T190612Z
LAST-MODIFIED:20220621T190612Z
UID:10000523-1496431800-1496437200@griffithobservatory.lacity.gov
SUMMARY:All Space Considered - June 2017
DESCRIPTION:
URL:https://griffithobservatory.lacity.gov/event/all-space-considered-june-2017/
LOCATION:Leonard Nimoy Event Horizon Theater
CATEGORIES:All Space Considered,Special Guest,Special Guest Lecture
ATTACH;FMTTYPE=image/png:https://griffithobservatory.lacity.gov/wp-content/uploads/2022/06/All-Space-Considered-June-2017.png
END:VEVENT
BEGIN:VEVENT
DTSTART;TZID=America/Los_Angeles:20170505T193000
DTEND;TZID=America/Los_Angeles:20170505T210000
DTSTAMP:20260421T200141
CREATED:20220621T191118Z
LAST-MODIFIED:20220621T191803Z
UID:10000524-1494012600-1494018000@griffithobservatory.lacity.gov
SUMMARY:All Space Considered - May 2017
DESCRIPTION:
URL:https://griffithobservatory.lacity.gov/event/all-space-considered-may-2017/
LOCATION:Leonard Nimoy Event Horizon Theater
CATEGORIES:All Space Considered
ATTACH;FMTTYPE=image/jpeg:https://griffithobservatory.lacity.gov/wp-content/uploads/2022/06/All-Space-Considered-May-2017.jpg
END:VEVENT
BEGIN:VEVENT
DTSTART;TZID=America/Los_Angeles:20170303T193000
DTEND;TZID=America/Los_Angeles:20170303T210000
DTSTAMP:20260421T200141
CREATED:20220621T192314Z
LAST-MODIFIED:20220621T192314Z
UID:10000525-1488569400-1488574800@griffithobservatory.lacity.gov
SUMMARY:All Space Considered - March 2017
DESCRIPTION:
URL:https://griffithobservatory.lacity.gov/event/all-space-considered-march-2017/
LOCATION:Leonard Nimoy Event Horizon Theater
CATEGORIES:All Space Considered,NASA-JPL,Special Guest,Special Guest Lecture
ATTACH;FMTTYPE=image/png:https://griffithobservatory.lacity.gov/wp-content/uploads/2022/06/All-Space-Considered-March-2017.png
END:VEVENT
BEGIN:VEVENT
DTSTART;TZID=America/Los_Angeles:20170212T160000
DTEND;TZID=America/Los_Angeles:20170212T173000
DTSTAMP:20260421T200141
CREATED:20220615T195730Z
LAST-MODIFIED:20220617T174553Z
UID:10000397-1486915200-1486920600@griffithobservatory.lacity.gov
SUMMARY:New Horizons and The Exploration of Pluto
DESCRIPTION:
URL:https://griffithobservatory.lacity.gov/event/new-horizons-and-the-exploration-of-pluto/
LOCATION:Leonard Nimoy Event Horizon Theater
CATEGORIES:NASA-JPL,New Horizons Mission,Special Guest,Special Guest Lecture
ATTACH;FMTTYPE=image/jpeg:https://griffithobservatory.lacity.gov/wp-content/uploads/2022/06/pluto_natural_color_20150714_web.jpg
END:VEVENT
BEGIN:VEVENT
DTSTART;TZID=America/Los_Angeles:20161028T193000
DTEND;TZID=America/Los_Angeles:20161028T210000
DTSTAMP:20260421T200141
CREATED:20220615T192714Z
LAST-MODIFIED:20220617T173323Z
UID:10000394-1477683000-1477688400@griffithobservatory.lacity.gov
SUMMARY:All Mars Considered
DESCRIPTION:
URL:https://griffithobservatory.lacity.gov/event/all-mars-considered/
LOCATION:Leonard Nimoy Event Horizon Theater
CATEGORIES:Book Signing,Special Guest,Special Guest Lecture
ATTACH;FMTTYPE=image/jpeg:https://griffithobservatory.lacity.gov/wp-content/uploads/2022/06/all_mars_consid_web_ver.jpg
END:VEVENT
BEGIN:VEVENT
DTSTART;TZID=America/Los_Angeles:20160506T193000
DTEND;TZID=America/Los_Angeles:20160506T210000
DTSTAMP:20260421T200141
CREATED:20220615T002054Z
LAST-MODIFIED:20220617T174201Z
UID:10000469-1462563000-1462568400@griffithobservatory.lacity.gov
SUMMARY:Carl Sagan Medal Lecture by Dr. Dan Durda
DESCRIPTION:
URL:https://griffithobservatory.lacity.gov/event/carl-sagan-medal-lecture-by-dr-dan-durda/
LOCATION:Leonard Nimoy Event Horizon Theater
CATEGORIES:Special Guest,Special Guest Lecture
ATTACH;FMTTYPE=image/jpeg:https://griffithobservatory.lacity.gov/wp-content/uploads/2021/03/IMG_4325.jpg
END:VEVENT
BEGIN:VEVENT
DTSTART;TZID=America/Los_Angeles:20160409T130000
DTEND;TZID=America/Los_Angeles:20160409T160000
DTSTAMP:20260421T200141
CREATED:20220615T001637Z
LAST-MODIFIED:20220617T175709Z
UID:10000468-1460206800-1460217600@griffithobservatory.lacity.gov
SUMMARY:Yuri's Night Kids!
DESCRIPTION:
URL:https://griffithobservatory.lacity.gov/event/yuris-night-kids/
LOCATION:Leonard Nimoy Event Horizon Theater
CATEGORIES:Special Guest,Special Guest Lecture
ATTACH;FMTTYPE=image/jpeg:https://griffithobservatory.lacity.gov/wp-content/uploads/2021/03/IMG_4325.jpg
END:VEVENT
BEGIN:VEVENT
DTSTART;TZID=America/Los_Angeles:20160129T193000
DTEND;TZID=America/Los_Angeles:20160129T210000
DTSTAMP:20260421T200141
CREATED:20220614T235707Z
LAST-MODIFIED:20220617T012142Z
UID:10000466-1454095800-1454101200@griffithobservatory.lacity.gov
SUMMARY:Digging Maya Astronomy (and Astronomers) by Dr. Anthony Aveni
DESCRIPTION:
URL:https://griffithobservatory.lacity.gov/event/digging-maya-astronomy-and-astronomers-by-dr-anthony-aveni/
LOCATION:Leonard Nimoy Event Horizon Theater
CATEGORIES:Special Guest,Special Guest Lecture
ATTACH;FMTTYPE=image/jpeg:https://griffithobservatory.lacity.gov/wp-content/uploads/2022/06/maya_images_sm.jpg
END:VEVENT
BEGIN:VEVENT
DTSTART;TZID=America/Los_Angeles:20151110T180000
DTEND;TZID=America/Los_Angeles:20151110T220000
DTSTAMP:20260421T200141
CREATED:20220614T234422Z
LAST-MODIFIED:20220617T011253Z
UID:10000465-1447178400-1447192800@griffithobservatory.lacity.gov
SUMMARY:Spotlighting The Sky: James Turrell Sheds Some Light at Griffith Observatory
DESCRIPTION:
URL:https://griffithobservatory.lacity.gov/event/spotlighting-the-sky-james-turrell-sheds-some-light-at-griffith-observatory/
LOCATION:Leonard Nimoy Event Horizon Theater
CATEGORIES:Special Guest,Special Guest Lecture
ATTACH;FMTTYPE=image/jpeg:https://griffithobservatory.lacity.gov/wp-content/uploads/2022/06/Photo_by_Florian_Holzherr_web.jpg
END:VEVENT
BEGIN:VEVENT
DTSTART;TZID=America/Los_Angeles:20150714T130000
DTEND;TZID=America/Los_Angeles:20150717T210000
DTSTAMP:20260421T200141
CREATED:20220614T225205Z
LAST-MODIFIED:20220617T004708Z
UID:10000463-1436878800-1437166800@griffithobservatory.lacity.gov
SUMMARY:New Horizons reaches Pluto!
DESCRIPTION:
URL:https://griffithobservatory.lacity.gov/event/new-horizons-reaches-pluto/
LOCATION:Leonard Nimoy Event Horizon Theater
CATEGORIES:NASA-JPL,Special Guest,Special Guest Lecture
ATTACH;FMTTYPE=image/jpeg:https://griffithobservatory.lacity.gov/wp-content/uploads/2022/06/New_Horizons_Pluto.jpg
END:VEVENT
BEGIN:VEVENT
DTSTART;TZID=America/Los_Angeles:20150507T193000
DTEND;TZID=America/Los_Angeles:20150507T210000
DTSTAMP:20260421T200141
CREATED:20220614T221308Z
LAST-MODIFIED:20220617T010948Z
UID:10000461-1431027000-1431032400@griffithobservatory.lacity.gov
SUMMARY:Special guest lecture and book signing by John M. Logsdon
DESCRIPTION:
URL:https://griffithobservatory.lacity.gov/event/special-guest-lecture-and-book-signing-by-john-m-logsdon/
LOCATION:Leonard Nimoy Event Horizon Theater
CATEGORIES:Book Signing,Special Guest,Special Guest Lecture
ATTACH;FMTTYPE=image/jpeg:https://griffithobservatory.lacity.gov/wp-content/uploads/2022/06/Logdon_Nixon.jpg
END:VEVENT
BEGIN:VEVENT
DTSTART;TZID=America/Los_Angeles:20150424T080000
DTEND;TZID=America/Los_Angeles:20150427T170000
DTSTAMP:20260421T200141
CREATED:20220614T220553Z
LAST-MODIFIED:20220617T003023Z
UID:10000460-1429862400-1430154000@griffithobservatory.lacity.gov
SUMMARY:Hubble Space Telescope 25th Anniversary
DESCRIPTION:
URL:https://griffithobservatory.lacity.gov/event/hubble-space-telescope-25th-anniversary/
LOCATION:Leonard Nimoy Event Horizon Theater
CATEGORIES:Hubble Space Telescope,NASA-JPL,Special Guest,Special Guest Lecture
ATTACH;FMTTYPE=image/jpeg:https://griffithobservatory.lacity.gov/wp-content/uploads/2022/06/pillars_of_creation.jpg
END:VEVENT
BEGIN:VEVENT
DTSTART;TZID=America/Los_Angeles:20140308T160000
DTEND;TZID=America/Los_Angeles:20140308T180000
DTSTAMP:20260421T200141
CREATED:20220614T200019Z
LAST-MODIFIED:20220617T001235Z
UID:10000452-1394294400-1394301600@griffithobservatory.lacity.gov
SUMMARY:Celebrating John Dobson
DESCRIPTION:
URL:https://griffithobservatory.lacity.gov/event/celebrating-john-dobson/
LOCATION:Leonard Nimoy Event Horizon Theater
CATEGORIES:Special Guest,Special Guest Lecture
ATTACH;FMTTYPE=image/jpeg:https://griffithobservatory.lacity.gov/wp-content/uploads/2021/03/IMG_4325.jpg
END:VEVENT
BEGIN:VEVENT
DTSTART;TZID=America/Los_Angeles:20140220T120000
DTEND;TZID=America/Los_Angeles:20140220T210000
DTSTAMP:20260421T200141
CREATED:20220614T190358Z
LAST-MODIFIED:20220617T001015Z
UID:10000449-1392897600-1392930000@griffithobservatory.lacity.gov
SUMMARY:Griffith Observatory Presents a Day with NASA
DESCRIPTION:
URL:https://griffithobservatory.lacity.gov/event/griffith-observatory-presents-a-day-with-nasa/
LOCATION:Leonard Nimoy Event Horizon Theater
CATEGORIES:International Space Station,NASA-JPL,Special Guest,Special Guest Lecture
ATTACH;FMTTYPE=image/jpeg:https://griffithobservatory.lacity.gov/wp-content/uploads/2022/06/20140203_ISS_Earth_700px.jpg
END:VEVENT
BEGIN:VEVENT
DTSTART;TZID=America/Los_Angeles:20130618T193000
DTEND;TZID=America/Los_Angeles:20130618T210000
DTSTAMP:20260421T200141
CREATED:20220614T004153Z
LAST-MODIFIED:20220617T000340Z
UID:10000441-1371583800-1371589200@griffithobservatory.lacity.gov
SUMMARY:Celebrating Dr. Sally Ride: First American Woman in Space
DESCRIPTION:
URL:https://griffithobservatory.lacity.gov/event/celebrating-dr-sally-ride-first-american-woman-in-space/
LOCATION:Leonard Nimoy Event Horizon Theater
CATEGORIES:NASA-JPL,Space Shuttle program,Special Guest,Special Guest Lecture
ATTACH;FMTTYPE=image/jpeg:https://griffithobservatory.lacity.gov/wp-content/uploads/2022/06/astronomers_20200421_020-scaled.jpg
END:VEVENT
BEGIN:VEVENT
DTSTART;TZID=America/Los_Angeles:20130310T130000
DTEND;TZID=America/Los_Angeles:20130310T180000
DTSTAMP:20260421T200141
CREATED:20220613T232258Z
LAST-MODIFIED:20220617T000007Z
UID:10000437-1362920400-1362938400@griffithobservatory.lacity.gov
SUMMARY:Lecture and Book Signing by Renowned Space Artist Michael Carroll
DESCRIPTION:
URL:https://griffithobservatory.lacity.gov/event/lecture-and-book-signing-by-renowned-space-artist-michael-carroll/
LOCATION:Leonard Nimoy Event Horizon Theater
CATEGORIES:Book Signing,Special Guest,Special Guest Lecture
ATTACH;FMTTYPE=image/jpeg:https://griffithobservatory.lacity.gov/wp-content/uploads/2022/06/Carroll_book.jpg
END:VEVENT
BEGIN:VEVENT
DTSTART;TZID=America/Los_Angeles:20121215T140000
DTEND;TZID=America/Los_Angeles:20121216T180000
DTSTAMP:20260421T200141
CREATED:20220611T000111Z
LAST-MODIFIED:20220616T234711Z
UID:10000356-1355580000-1355680800@griffithobservatory.lacity.gov
SUMMARY:Apollo 17: The End of an Era
DESCRIPTION:
URL:https://griffithobservatory.lacity.gov/event/apollo-17-the-end-of-an-era/
LOCATION:Leonard Nimoy Event Horizon Theater
CATEGORIES:Apollo program,NASA-JPL,Observatory Lecture
ATTACH;FMTTYPE=image/png:https://griffithobservatory.lacity.gov/wp-content/uploads/2022/06/OneSmallStep_Logo_banner.png
END:VEVENT
BEGIN:VEVENT
DTSTART;TZID=America/Los_Angeles:20120805T210000
DTEND;TZID=America/Los_Angeles:20120806T000000
DTSTAMP:20260421T200141
CREATED:20220613T213559Z
LAST-MODIFIED:20220616T234047Z
UID:10000433-1344200400-1344211200@griffithobservatory.lacity.gov
SUMMARY:NASA's Rover CURIOSITY Lands on Mars!
DESCRIPTION:
URL:https://griffithobservatory.lacity.gov/event/nasas-rover-curiosity-lands-on-mars/
LOCATION:Leonard Nimoy Event Horizon Theater
CATEGORIES:NASA-JPL,Observatory Lecture
ATTACH;FMTTYPE=image/jpeg:https://griffithobservatory.lacity.gov/wp-content/uploads/2022/06/curiosity_mars.jpg
END:VEVENT
BEGIN:VEVENT
DTSTART;TZID=America/Los_Angeles:20120802T193000
DTEND;TZID=America/Los_Angeles:20120802T210000
DTSTAMP:20260421T200141
CREATED:20220613T210942Z
LAST-MODIFIED:20220616T233828Z
UID:10000432-1343935800-1343941200@griffithobservatory.lacity.gov
SUMMARY:Film Screening: Triumph of the Dream
DESCRIPTION:
URL:https://griffithobservatory.lacity.gov/event/film-screening-triumph-of-the-dream/
LOCATION:Leonard Nimoy Event Horizon Theater
CATEGORIES:Film screening,Special Guest,Special Guest Lecture
ATTACH;FMTTYPE=image/jpeg:https://griffithobservatory.lacity.gov/wp-content/uploads/2022/06/SeeffMoviePoster.jpg
END:VEVENT
BEGIN:VEVENT
DTSTART;TZID=America/Los_Angeles:20120421T140000
DTEND;TZID=America/Los_Angeles:20120422T190000
DTSTAMP:20260421T200141
CREATED:20220610T234829Z
LAST-MODIFIED:20220616T233044Z
UID:10000355-1335016800-1335121200@griffithobservatory.lacity.gov
SUMMARY:Apollo 16: Scouting the Lunar Highlands
DESCRIPTION:
URL:https://griffithobservatory.lacity.gov/event/apollo-16-scouting-the-lunar-highlands/
LOCATION:Leonard Nimoy Event Horizon Theater
CATEGORIES:Apollo program,NASA-JPL,Observatory Lecture
ATTACH;FMTTYPE=image/png:https://griffithobservatory.lacity.gov/wp-content/uploads/2022/06/OneSmallStep_Logo_banner.png
END:VEVENT
BEGIN:VEVENT
DTSTART;TZID=America/Los_Angeles:20120219T160000
DTEND;TZID=America/Los_Angeles:20120219T200000
DTSTAMP:20260421T200141
CREATED:20220613T201707Z
LAST-MODIFIED:20220616T232851Z
UID:10000429-1329667200-1329681600@griffithobservatory.lacity.gov
SUMMARY:First American in Orbit: John Glenn and the Flight of Friendship 7
DESCRIPTION:
URL:https://griffithobservatory.lacity.gov/event/first-american-in-orbit-john-glenn-and-the-flight-of-friendship-7/
LOCATION:Leonard Nimoy Event Horizon Theater
CATEGORIES:Mercury program,NASA-JPL,Observatory Lecture
ATTACH;FMTTYPE=image/jpeg:https://griffithobservatory.lacity.gov/wp-content/uploads/2022/06/Event_JohnGlenn.jpg
END:VEVENT
BEGIN:VEVENT
DTSTART;TZID=America/Los_Angeles:20110730T190000
DTEND;TZID=America/Los_Angeles:20110731T170000
DTSTAMP:20260421T200141
CREATED:20220610T231320Z
LAST-MODIFIED:20220616T232230Z
UID:10000354-1312052400-1312131600@griffithobservatory.lacity.gov
SUMMARY:Apollo 15: Exploration at its Greatest
DESCRIPTION:
URL:https://griffithobservatory.lacity.gov/event/apollo-15-exploration-at-its-greatest/
LOCATION:Leonard Nimoy Event Horizon Theater
CATEGORIES:Apollo program,NASA-JPL,Observatory Lecture
ATTACH;FMTTYPE=image/png:https://griffithobservatory.lacity.gov/wp-content/uploads/2022/06/OneSmallStep_Logo_banner.png
END:VEVENT
END:VCALENDAR